{
 "currentVersion": 11.1,
 "cimVersion": "3.1.0",
 "serviceDescription": "都市計画情報マップ",
 "mapName": "MapLayer",
 "description": "都市計画情報マップ",
 "copyrightText": "この地図は東京都縮尺1/2,500地形図(平成27年度版) を使用したものである。(MMT利許第27075号-43)",
 "supportsDynamicLayers": true,
 "layers": [
  {
   "id": 0,
   "name": "Road_l_split",
   "parentLayerId": -1,
   "defaultVisibility": true,
   "subLayerIds": null,
   "minScale": 0,
   "maxScale": 0,
   "type": "Feature Layer",
   "geometryType": "esriGeometryPolyline",
   "supportsDynamicLegends": true
  },
  {
   "id": 1,
   "name": "House_l_split",
   "parentLayerId": -1,
   "defaultVisibility": true,
   "subLayerIds": null,
   "minScale": 18000,
   "maxScale": 0,
   "type": "Feature Layer",
   "geometryType": "esriGeometryPolyline",
   "supportsDynamicLegends": true
  },
  {
   "id": 2,
   "name": "G101_P",
   "parentLayerId": -1,
   "defaultVisibility": true,
   "subLayerIds": null,
   "minScale": 0,
   "maxScale": 0,
   "type": "Feature Layer",
   "geometryType": "esriGeometryPolygon",
   "supportsDynamicLegends": true
  }
 ],
 "tables": [],
 "spatialReference": {
  "wkid": 2451,
  "latestWkid": 2451,
  "xyTolerance": 0.001,
  "zTolerance": 0.001,
  "mTolerance": 0.001,
  "falseX": -5622600,
  "falseY": -13986300,
  "xyUnits": 4.5030817729666036E8,
  "falseZ": -100000,
  "zUnits": 10000,
  "falseM": -100000,
  "mUnits": 10000
 },
 "singleFusedMapCache": true,
 "tileInfo": {
  "rows": 256,
  "cols": 256,
  "dpi": 96,
  "format": "PNG",
  "compressionQuality": 0,
  "origin": {
   "x": -5622600,
   "y": 6016000
  },
  "spatialReference": {
   "wkid": 2451,
   "latestWkid": 2451,
   "xyTolerance": 0.001,
   "zTolerance": 0.001,
   "mTolerance": 0.001,
   "falseX": -5622600,
   "falseY": -13986300,
   "xyUnits": 4.5030817729666036E8,
   "falseZ": -100000,
   "zUnits": 10000,
   "falseM": -100000,
   "mUnits": 10000
  },
  "lods": [
   {
    "level": 0,
    "resolution": 10.583354500042335,
    "scale": 40000
   },
   {
    "level": 1,
    "resolution": 5.291677250021167,
    "scale": 20000
   },
   {
    "level": 2,
    "resolution": 2.6458386250105836,
    "scale": 10000
   },
   {
    "level": 3,
    "resolution": 1.3229193125052918,
    "scale": 5000
   },
   {
    "level": 4,
    "resolution": 0.6614596562526459,
    "scale": 2500
   }
  ]
 },
 "storageInfo": {
  "storageFormat": "esriMapCacheStorageModeCompactV2",
  "packetSize": 128
 },
 "initialExtent": {
  "xmin": -10960.941421524847,
  "ymin": -37524.438678163795,
  "xmax": -2969.5448784751406,
  "ymax": -31943.291321836652,
  "spatialReference": {
   "wkid": 2451,
   "latestWkid": 2451,
   "xyTolerance": 0.001,
   "zTolerance": 0.001,
   "mTolerance": 0.001,
   "falseX": -5622600,
   "falseY": -13986300,
   "xyUnits": 4.5030817729666036E8,
   "falseZ": -100000,
   "zUnits": 10000,
   "falseM": -100000,
   "mUnits": 10000
  }
 },
 "fullExtent": {
  "xmin": -9861.262799999677,
  "ymin": -37265.72890000045,
  "xmax": -4068.980100000277,
  "ymax": -32199.688699999824,
  "spatialReference": {
   "wkid": 2451,
   "latestWkid": 2451,
   "xyTolerance": 0.001,
   "zTolerance": 0.001,
   "mTolerance": 0.001,
   "falseX": -5622600,
   "falseY": -13986300,
   "xyUnits": 4.5030817729666036E8,
   "falseZ": -100000,
   "zUnits": 10000,
   "falseM": -100000,
   "mUnits": 10000
  }
 },
 "datesInUnknownTimezone": false,
 "minScale": 40000,
 "maxScale": 2500,
 "minLOD": 0,
 "maxLOD": 4,
 "units": "esriMeters",
 "supportedImageFormatTypes": "PNG32,PNG24,PNG,JPG,DIB,TIFF,EMF,PS,PDF,GIF,SVG,SVGZ,BMP",
 "documentInfo": {
  "Title": "Project.aprx",
  "Author": "",
  "Comments": "都市計画情報マップ",
  "Subject": "背景の白地図",
  "Category": "",
  "Version": "3.1.0",
  "AntialiasingMode": "Fast",
  "TextAntialiasingMode": "Force",
  "Keywords": "都市計画情報マップ"
 },
 "capabilities": "Map,Query,Data",
 "supportedQueryFormats": "JSON, geoJSON, PBF",
 "exportTilesAllowed": false,
 "referenceScale": 0.0,
 "supportsDatumTransformation": true,
 "archivingInfo": {
  "supportsHistoricMoment": false
 },
 "supportsClipping": true,
 "supportsSpatialFilter": true,
 "supportsTimeRelation": true,
 "supportsQueryDataElements": true,
 "mapUnits": {
  "uwkid": 9001
 },
 "maxRecordCount": 2000,
 "maxImageHeight": 4096,
 "maxImageWidth": 4096,
 "supportedExtensions": "",
 "resampling": false,
 "serviceItemId": "abae032cdcbe49b584dde0389e9a40eb"
}
