{
 "currentVersion": 11.1,
 "cimVersion": "3.1.0",
 "serviceDescription": "背景",
 "mapName": "マップ レイヤー",
 "description": "背景",
 "copyrightText": "",
 "supportsDynamicLayers": true,
 "layers": [
  {
   "id": 0,
   "name": "background",
   "parentLayerId": -1,
   "defaultVisibility": true,
   "subLayerIds": null,
   "minScale": 0,
   "maxScale": 0,
   "type": "Feature Layer",
   "geometryType": "esriGeometryPolygon",
   "supportsDynamicLegends": true
  }
 ],
 "tables": [],
 "spatialReference": {
  "wkid": 2451,
  "latestWkid": 2451,
  "xyTolerance": 0.001,
  "zTolerance": 0.001,
  "mTolerance": 0.001,
  "falseX": -5622600,
  "falseY": -13986300,
  "xyUnits": 4.5030817729666036E8,
  "falseZ": -100000,
  "zUnits": 10000,
  "falseM": -100000,
  "mUnits": 10000
 },
 "singleFusedMapCache": true,
 "tileInfo": {
  "rows": 256,
  "cols": 256,
  "dpi": 96,
  "format": "PNG",
  "compressionQuality": 0,
  "origin": {
   "x": -5622600,
   "y": 6016000
  },
  "spatialReference": {
   "wkid": 2451,
   "latestWkid": 2451,
   "xyTolerance": 0.001,
   "zTolerance": 0.001,
   "mTolerance": 0.001,
   "falseX": -5622600,
   "falseY": -13986300,
   "xyUnits": 4.5030817729666036E8,
   "falseZ": -100000,
   "zUnits": 10000,
   "falseM": -100000,
   "mUnits": 10000
  },
  "lods": [
   {
    "level": 0,
    "resolution": 10.583354500042335,
    "scale": 40000
   },
   {
    "level": 1,
    "resolution": 5.291677250021167,
    "scale": 20000
   },
   {
    "level": 2,
    "resolution": 2.6458386250105836,
    "scale": 10000
   },
   {
    "level": 3,
    "resolution": 1.3229193125052918,
    "scale": 5000
   },
   {
    "level": 4,
    "resolution": 0.6614596562526459,
    "scale": 2500
   }
  ]
 },
 "storageInfo": {
  "storageFormat": "esriMapCacheStorageModeCompactV2",
  "packetSize": 128
 },
 "initialExtent": {
  "xmin": -14072.760645088307,
  "ymin": -35822.72387592595,
  "xmax": -4646.691757751435,
  "ymax": -29239.609251627608,
  "spatialReference": {
   "wkid": 2451,
   "latestWkid": 2451,
   "xyTolerance": 0.001,
   "zTolerance": 0.001,
   "mTolerance": 0.001,
   "falseX": -5622600,
   "falseY": -13986300,
   "xyUnits": 4.5030817729666036E8,
   "falseZ": -100000,
   "zUnits": 10000,
   "falseM": -100000,
   "mUnits": 10000
  }
 },
 "fullExtent": {
  "xmin": -22546.900399999693,
  "ymin": -49993.102299999446,
  "xmax": 8538.354299999774,
  "ymax": -18980.43710000068,
  "spatialReference": {
   "wkid": 2451,
   "latestWkid": 2451,
   "xyTolerance": 0.001,
   "zTolerance": 0.001,
   "mTolerance": 0.001,
   "falseX": -5622600,
   "falseY": -13986300,
   "xyUnits": 4.5030817729666036E8,
   "falseZ": -100000,
   "zUnits": 10000,
   "falseM": -100000,
   "mUnits": 10000
  }
 },
 "datesInUnknownTimezone": false,
 "minScale": 40000,
 "maxScale": 2500,
 "minLOD": 0,
 "maxLOD": 4,
 "units": "esriMeters",
 "supportedImageFormatTypes": "PNG32,PNG24,PNG,JPG,DIB,TIFF,EMF,PS,PDF,GIF,SVG,SVGZ,BMP",
 "documentInfo": {
  "Title": "Project.aprx",
  "Author": "",
  "Comments": "背景",
  "Subject": "背景",
  "Category": "",
  "Version": "3.1.0",
  "AntialiasingMode": "Fast",
  "TextAntialiasingMode": "Force",
  "Keywords": "背景"
 },
 "capabilities": "Map,Query,Data",
 "supportedQueryFormats": "JSON, geoJSON, PBF",
 "exportTilesAllowed": false,
 "referenceScale": 0.0,
 "supportsDatumTransformation": true,
 "archivingInfo": {
  "supportsHistoricMoment": false
 },
 "supportsClipping": true,
 "supportsSpatialFilter": true,
 "supportsTimeRelation": true,
 "supportsQueryDataElements": true,
 "mapUnits": {
  "uwkid": 9001
 },
 "maxRecordCount": 2000,
 "maxImageHeight": 4096,
 "maxImageWidth": 4096,
 "supportedExtensions": "",
 "resampling": false,
 "serviceItemId": "5b4d10dd662146dd9a416dda575146c6"
}
